BEGIN:VCALENDAR
VERSION:2.0
PRODID:-//L&#039;ATELIER DU GOUT - ECPv6.15.20//NONSGML v1.0//EN
CALSCALE:GREGORIAN
METHOD:PUBLISH
X-ORIGINAL-URL:https://atelierdugout44.fr
X-WR-CALDESC:Évènements pour L&#039;ATELIER DU GOUT
REFRESH-INTERVAL;VALUE=DURATION:PT1H
X-Robots-Tag:noindex
X-PUBLISHED-TTL:PT1H
BEGIN:VTIMEZONE
TZID:Europe/Paris
BEGIN:DAYLIGHT
TZOFFSETFROM:+0100
TZOFFSETTO:+0200
TZNAME:CEST
DTSTART:20240331T010000
END:DAYLIGHT
BEGIN:STANDARD
TZOFFSETFROM:+0200
TZOFFSETTO:+0100
TZNAME:CET
DTSTART:20241027T010000
END:STANDARD
BEGIN:DAYLIGHT
TZOFFSETFROM:+0100
TZOFFSETTO:+0200
TZNAME:CEST
DTSTART:20250330T010000
END:DAYLIGHT
BEGIN:STANDARD
TZOFFSETFROM:+0200
TZOFFSETTO:+0100
TZNAME:CET
DTSTART:20251026T010000
END:STANDARD
BEGIN:DAYLIGHT
TZOFFSETFROM:+0100
TZOFFSETTO:+0200
TZNAME:CEST
DTSTART:20260329T010000
END:DAYLIGHT
BEGIN:STANDARD
TZOFFSETFROM:+0200
TZOFFSETTO:+0100
TZNAME:CET
DTSTART:20261025T010000
END:STANDARD
END:VTIMEZONE
BEGIN:VEVENT
DTSTART;TZID=Europe/Paris:20250403T153000
DTEND;TZID=Europe/Paris:20250403T163000
DTSTAMP:20260420T002305
CREATED:20250225T174441Z
LAST-MODIFIED:20250226T084205Z
UID:13072-1743694200-1743697800@atelierdugout44.fr
SUMMARY:Damien LAURENT - Café Jules au Pouliguen
DESCRIPTION:Choux au lemon\, curd citron-basilic
URL:https://atelierdugout44.fr/event/damien-laurent-cafe-jules-au-pouliguen/
LOCATION:Salle de la Duchesse Anne\, Place de la Duchesse Anne\, Le Pouliguen\, 44510\, France
CATEGORIES:Cours de cuisine
END:VEVENT
BEGIN:VEVENT
DTSTART;TZID=Europe/Paris:20250424T153000
DTEND;TZID=Europe/Paris:20250424T163000
DTSTAMP:20260420T002305
CREATED:20250304T145732Z
LAST-MODIFIED:20250403T090420Z
UID:13126-1745508600-1745512200@atelierdugout44.fr
SUMMARY:François Thorel -La conserverie Le Traict Le Croisic
DESCRIPTION:Risotto aux coques du Croisic
URL:https://atelierdugout44.fr/event/francois-thorel-la-conserverie-le-traict-le-croisic/
LOCATION:Salle de la Duchesse Anne\, Place de la Duchesse Anne\, Le Pouliguen\, 44510\, France
CATEGORIES:Cours de cuisine
END:VEVENT
END:VCALENDAR