BEGIN:VCALENDAR
VERSION:2.0
PRODID:-//L&#039;ATELIER DU GOUT - ECPv6.15.20//NONSGML v1.0//EN
CALSCALE:GREGORIAN
METHOD:PUBLISH
X-ORIGINAL-URL:https://atelierdugout44.fr
X-WR-CALDESC:Évènements pour L&#039;ATELIER DU GOUT
REFRESH-INTERVAL;VALUE=DURATION:PT1H
X-Robots-Tag:noindex
X-PUBLISHED-TTL:PT1H
BEGIN:VTIMEZONE
TZID:Europe/Paris
BEGIN:DAYLIGHT
TZOFFSETFROM:+0100
TZOFFSETTO:+0200
TZNAME:CEST
DTSTART:20240331T010000
END:DAYLIGHT
BEGIN:STANDARD
TZOFFSETFROM:+0200
TZOFFSETTO:+0100
TZNAME:CET
DTSTART:20241027T010000
END:STANDARD
BEGIN:DAYLIGHT
TZOFFSETFROM:+0100
TZOFFSETTO:+0200
TZNAME:CEST
DTSTART:20250330T010000
END:DAYLIGHT
BEGIN:STANDARD
TZOFFSETFROM:+0200
TZOFFSETTO:+0100
TZNAME:CET
DTSTART:20251026T010000
END:STANDARD
BEGIN:DAYLIGHT
TZOFFSETFROM:+0100
TZOFFSETTO:+0200
TZNAME:CEST
DTSTART:20260329T010000
END:DAYLIGHT
BEGIN:STANDARD
TZOFFSETFROM:+0200
TZOFFSETTO:+0100
TZNAME:CET
DTSTART:20261025T010000
END:STANDARD
END:VTIMEZONE
BEGIN:VEVENT
DTSTART;TZID=Europe/Paris:20250605T153000
DTEND;TZID=Europe/Paris:20250605T163000
DTSTAMP:20260419T213755
CREATED:20250425T153635Z
LAST-MODIFIED:20250425T153635Z
UID:13452-1749137400-1749141000@atelierdugout44.fr
SUMMARY:Fabien BOUCHAUD
DESCRIPTION:Mousse de foie façon Le Parfait
URL:https://atelierdugout44.fr/event/fabien-bouchaud/
LOCATION:Salle de la Duchesse Anne\, Place de la Duchesse Anne\, Le Pouliguen\, 44510\, France
CATEGORIES:Cours de cuisine
END:VEVENT
BEGIN:VEVENT
DTSTART;TZID=Europe/Paris:20250612T153000
DTEND;TZID=Europe/Paris:20250612T163000
DTSTAMP:20260419T213755
CREATED:20250425T153459Z
LAST-MODIFIED:20250526T062214Z
UID:13450-1749742200-1749745800@atelierdugout44.fr
SUMMARY:Isabelle CLEROT - Le jardin des confitures
DESCRIPTION:Confiture de Fraises au Safran
URL:https://atelierdugout44.fr/event/isabelle-clerot-le-jardin-des-confitures/
LOCATION:Salle de la Duchesse Anne\, Place de la Duchesse Anne\, Le Pouliguen\, 44510\, France
CATEGORIES:Cours de cuisine
END:VEVENT
BEGIN:VEVENT
DTSTART;TZID=Europe/Paris:20250619T153000
DTEND;TZID=Europe/Paris:20250619T163000
DTSTAMP:20260419T213755
CREATED:20250304T145525Z
LAST-MODIFIED:20250514T064707Z
UID:13124-1750347000-1750350600@atelierdugout44.fr
SUMMARY:Théo Oster - La Mélodie d'Ael Le Croisic
DESCRIPTION:Galettes de pomme de terre alsacienne\, saumon gravlax\, sauce raifort.
URL:https://atelierdugout44.fr/event/theo-oster-la-melodie-dael-le-croisic/
LOCATION:Salle de la Duchesse Anne\, Place de la Duchesse Anne\, Le Pouliguen\, 44510\, France
CATEGORIES:Cours de cuisine
END:VEVENT
END:VCALENDAR